BEGIN:VCALENDAR
VERSION:2.0
PRODID:-//Lions Club Bad Marienberg - ECPv6.14.2//NONSGML v1.0//EN
CALSCALE:GREGORIAN
METHOD:PUBLISH
X-ORIGINAL-URL:https://lionsclub-bad-marienberg.de
X-WR-CALDESC:Veranstaltungen für Lions Club Bad Marienberg
REFRESH-INTERVAL;VALUE=DURATION:PT1H
X-Robots-Tag:noindex
X-PUBLISHED-TTL:PT1H
BEGIN:VTIMEZONE
TZID:Europe/Berlin
BEGIN:DAYLIGHT
TZOFFSETFROM:+0100
TZOFFSETTO:+0200
TZNAME:CEST
DTSTART:20240331T010000
END:DAYLIGHT
BEGIN:STANDARD
TZOFFSETFROM:+0200
TZOFFSETTO:+0100
TZNAME:CET
DTSTART:20241027T010000
END:STANDARD
BEGIN:DAYLIGHT
TZOFFSETFROM:+0100
TZOFFSETTO:+0200
TZNAME:CEST
DTSTART:20250330T010000
END:DAYLIGHT
BEGIN:STANDARD
TZOFFSETFROM:+0200
TZOFFSETTO:+0100
TZNAME:CET
DTSTART:20251026T010000
END:STANDARD
BEGIN:DAYLIGHT
TZOFFSETFROM:+0100
TZOFFSETTO:+0200
TZNAME:CEST
DTSTART:20260329T010000
END:DAYLIGHT
BEGIN:STANDARD
TZOFFSETFROM:+0200
TZOFFSETTO:+0100
TZNAME:CET
DTSTART:20261025T010000
END:STANDARD
END:VTIMEZONE
BEGIN:VEVENT
DTSTART;TZID=Europe/Berlin:20260414T190000
DTEND;TZID=Europe/Berlin:20260414T220000
DTSTAMP:20260419T171452
CREATED:20251016T092431Z
LAST-MODIFIED:20251016T093148Z
UID:8767-1776193200-1776204000@lionsclub-bad-marienberg.de
SUMMARY:14.04.2026 | Landschaftsmuseum Hachenburg
DESCRIPTION:Referent: Dr. Moritz Jungbluth – Museen im Westerwald\nLeipziger Straße 1 | 57627 Hachenburg
URL:https://lionsclub-bad-marienberg.de/event/14-04-2026-landschaftsmuseum-hachenburg/
CATEGORIES:Clubabend – Außentermin
ATTACH;FMTTYPE=image/png:https://lionsclub-bad-marienberg.de/wp-content/uploads/2024/02/LCBM_25_Logo_cmyk.png
END:VEVENT
BEGIN:VEVENT
DTSTART;TZID=Europe/Berlin:20260310T190000
DTEND;TZID=Europe/Berlin:20260310T220000
DTSTAMP:20260419T171452
CREATED:20251016T091849Z
LAST-MODIFIED:20251016T091959Z
UID:8760-1773169200-1773180000@lionsclub-bad-marienberg.de
SUMMARY:10.03.2026 | Mitgliederversammlung
DESCRIPTION:
URL:https://lionsclub-bad-marienberg.de/event/10-03-2026-mitgliederversammlung/
LOCATION:Clubhotel\, Kurallee 1\, Bad Marienberg\, Rheinland-Pfalz\, 57627\, Deutschland
CATEGORIES:Clubabend
ATTACH;FMTTYPE=image/png:https://lionsclub-bad-marienberg.de/wp-content/uploads/2024/02/LCBM_25_Logo_cmyk.png
END:VEVENT
BEGIN:VEVENT
DTSTART;TZID=Europe/Berlin:20260210T190000
DTEND;TZID=Europe/Berlin:20260210T220000
DTSTAMP:20260419T171452
CREATED:20251016T091913Z
LAST-MODIFIED:20251016T092219Z
UID:8758-1770750000-1770760800@lionsclub-bad-marienberg.de
SUMMARY:10.02.2026 | "Vom Frust zur Freude" – LSR überwinden mit Leichtigkeit
DESCRIPTION:Referentin: Anne Müller
URL:https://lionsclub-bad-marienberg.de/event/10-02-2026-vom-frust-zur-freude-lsr-ueberwinden-mit-leichtigkeit/
LOCATION:Clubhotel\, Kurallee 1\, Bad Marienberg\, Rheinland-Pfalz\, 57627\, Deutschland
CATEGORIES:Clubabend
ATTACH;FMTTYPE=image/png:https://lionsclub-bad-marienberg.de/wp-content/uploads/2024/02/LCBM_25_Logo_cmyk.png
END:VEVENT
BEGIN:VEVENT
DTSTART;TZID=Europe/Berlin:20260118T190000
DTEND;TZID=Europe/Berlin:20260118T230000
DTSTAMP:20260419T171452
CREATED:20251016T091645Z
LAST-MODIFIED:20251016T092111Z
UID:8752-1768762800-1768777200@lionsclub-bad-marienberg.de
SUMMARY:18.01.2026 | Neujahrsempfang 2026
DESCRIPTION:
URL:https://lionsclub-bad-marienberg.de/event/18-01-2026-neujahrsempfang-2026/
LOCATION:Philiipps Kochtöpferei\, Rheinstraße 103\, Ransbach-Baumbach\, 56235\, Germany
CATEGORIES:Clubabend – Außentermin
ATTACH;FMTTYPE=image/jpeg:https://lionsclub-bad-marienberg.de/wp-content/uploads/2022/11/f1d6443a-886b-42d2-9359-32c95b20c2d5.jpg
END:VEVENT
BEGIN:VEVENT
DTSTART;TZID=Europe/Berlin:20251209T190000
DTEND;TZID=Europe/Berlin:20251209T220000
DTSTAMP:20260419T171452
CREATED:20250618T131353Z
LAST-MODIFIED:20250618T131353Z
UID:8519-1765306800-1765317600@lionsclub-bad-marienberg.de
SUMMARY:09.12.2025 | Weihnachtsfeier
DESCRIPTION:
URL:https://lionsclub-bad-marienberg.de/event/09-12-2025-weihnachtsfeier/
CATEGORIES:Clubabend
ATTACH;FMTTYPE=image/jpeg:https://lionsclub-bad-marienberg.de/wp-content/uploads/2024/08/shiny-background-with-santa-claus-christmas-tree_23-2147580248.jpg
END:VEVENT
BEGIN:VEVENT
DTSTART;VALUE=DATE:20251127
DTEND;VALUE=DATE:20251201
DTSTAMP:20260419T171452
CREATED:20250618T131239Z
LAST-MODIFIED:20250618T131239Z
UID:8516-1764201600-1764547199@lionsclub-bad-marienberg.de
SUMMARY:27.11. -30.11.2025 | Weihnachtsmarkt Bad Marienberg
DESCRIPTION:
URL:https://lionsclub-bad-marienberg.de/event/27-11-30-11-2025-weihnachtsmarkt-bad-marienberg/
ATTACH;FMTTYPE=image/jpeg:https://lionsclub-bad-marienberg.de/wp-content/uploads/2023/12/LCBM_Weihnachtsmarkt_1IMG_3501-1.jpg
END:VEVENT
BEGIN:VEVENT
DTSTART;TZID=Europe/Berlin:20251111T190000
DTEND;TZID=Europe/Berlin:20251111T220000
DTSTAMP:20260419T171452
CREATED:20250618T131039Z
LAST-MODIFIED:20250618T131039Z
UID:8513-1762887600-1762898400@lionsclub-bad-marienberg.de
SUMMARY:11.11.2025 | Die Kunst als Medium
DESCRIPTION:Referentin: Martina Winz \n„Mein Weg in die Kunsttherapie und Sozialkunst an der Alanus Hochschule
URL:https://lionsclub-bad-marienberg.de/event/11-11-2025-die-kunst-als-medium/
LOCATION:Clubhotel\, Kurallee 1\, Bad Marienberg\, Rheinland-Pfalz\, 57627\, Deutschland
ATTACH;FMTTYPE=image/png:https://lionsclub-bad-marienberg.de/wp-content/uploads/2024/02/LCBM_25_Logo_cmyk.png
END:VEVENT
BEGIN:VEVENT
DTSTART;TZID=Europe/Berlin:20251014T190000
DTEND;TZID=Europe/Berlin:20251014T220000
DTSTAMP:20260419T171452
CREATED:20250618T130906Z
LAST-MODIFIED:20250618T130906Z
UID:8510-1760468400-1760479200@lionsclub-bad-marienberg.de
SUMMARY:14.10.2025 | Mitgliederversammlung
DESCRIPTION:
URL:https://lionsclub-bad-marienberg.de/event/14-10-2025-mitgliederversammlung/
LOCATION:Clubhotel\, Kurallee 1\, Bad Marienberg\, Rheinland-Pfalz\, 57627\, Deutschland
ATTACH;FMTTYPE=image/png:https://lionsclub-bad-marienberg.de/wp-content/uploads/2024/02/LCBM_25_Logo_cmyk.png
END:VEVENT
BEGIN:VEVENT
DTSTART;TZID=Europe/Berlin:20250930T190000
DTEND;TZID=Europe/Berlin:20250930T220000
DTSTAMP:20260419T171452
CREATED:20250618T130755Z
LAST-MODIFIED:20250618T130755Z
UID:8505-1759258800-1759269600@lionsclub-bad-marienberg.de
SUMMARY:30.09.2025 | Alpenfilmfestival
DESCRIPTION:
URL:https://lionsclub-bad-marienberg.de/event/30-09-2025-alpenfilmfestival/
LOCATION:Wied-Scala\, Südstraße 1\, Neitersen\, 57638\, Germany
CATEGORIES:Clubabend – Außentermin
ATTACH;FMTTYPE=image/png:https://lionsclub-bad-marienberg.de/wp-content/uploads/2024/02/LCBM_25_Logo_cmyk.png
END:VEVENT
BEGIN:VEVENT
DTSTART;TZID=Europe/Berlin:20250916T190000
DTEND;TZID=Europe/Berlin:20250916T220000
DTSTAMP:20260419T171452
CREATED:20250618T130544Z
LAST-MODIFIED:20250618T130551Z
UID:8501-1758049200-1758060000@lionsclub-bad-marienberg.de
SUMMARY:16.09.2025 | Besichtigung MANN Naturenergie
DESCRIPTION:Disruptive Veränderungen in der Energiewirtschaft als Chance \nReferent: Markus Mann
URL:https://lionsclub-bad-marienberg.de/event/16-09-2025-besichtigung-mann-naturenergie/
LOCATION:MANN Naturenergie\, Langenbach b. Kirburg\, Schulweg 8\, Langenbach\, 57520\, Germany
CATEGORIES:Clubabend – Außentermin
ATTACH;FMTTYPE=image/png:https://lionsclub-bad-marienberg.de/wp-content/uploads/2024/02/LCBM_25_Logo_cmyk.png
ORGANIZER;CN="Lions Club Bad Marienberg":MAILTO:info@lionsclub-bad-marienberg.de
END:VEVENT
BEGIN:VEVENT
DTSTART;TZID=Europe/Berlin:20250826T190000
DTEND;TZID=Europe/Berlin:20250826T220000
DTSTAMP:20260419T171452
CREATED:20250618T130300Z
LAST-MODIFIED:20250618T131449Z
UID:8498-1756234800-1756245600@lionsclub-bad-marienberg.de
SUMMARY:26.08.2025 | Projekt Neubau Schule Tansania
DESCRIPTION:Referenten: Lee Cosmas Neiyi und Eberhard Störer
URL:https://lionsclub-bad-marienberg.de/event/26-08-2025-projekt-neubau-schule-tansania/
LOCATION:Clubhotel\, Kurallee 1\, Bad Marienberg\, Rheinland-Pfalz\, 57627\, Deutschland
CATEGORIES:Clubabend
ATTACH;FMTTYPE=image/png:https://lionsclub-bad-marienberg.de/wp-content/uploads/2024/02/LCBM_25_Logo_cmyk.png
END:VEVENT
BEGIN:VEVENT
DTSTART;TZID=Europe/Berlin:20250715T190000
DTEND;TZID=Europe/Berlin:20250715T220000
DTSTAMP:20260419T171452
CREATED:20250618T130125Z
LAST-MODIFIED:20250618T130125Z
UID:8495-1752606000-1752616800@lionsclub-bad-marienberg.de
SUMMARY:15.07.2025 | Frauen gegen Gewald e.V. stellt sich vor
DESCRIPTION:
URL:https://lionsclub-bad-marienberg.de/event/15-07-2025-frauen-gegen-gewald-e-v-stellt-sich-vor/
LOCATION:Clubhotel\, Kurallee 1\, Bad Marienberg\, Rheinland-Pfalz\, 57627\, Deutschland
CATEGORIES:Clubabend
ATTACH;FMTTYPE=image/png:https://lionsclub-bad-marienberg.de/wp-content/uploads/2024/02/LCBM_25_Logo_cmyk.png
ORGANIZER;CN="Lions Club Bad Marienberg":MAILTO:info@lionsclub-bad-marienberg.de
END:VEVENT
BEGIN:VEVENT
DTSTART;TZID=Europe/Berlin:20250627T080000
DTEND;TZID=Europe/Berlin:20250629T170000
DTSTAMP:20260419T171452
CREATED:20240807T113943Z
LAST-MODIFIED:20240807T114142Z
UID:8081-1751011200-1751216400@lionsclub-bad-marienberg.de
SUMMARY:27.-29.06.2025 | Präsidentenfahrt nach Luxemburg
DESCRIPTION:
URL:https://lionsclub-bad-marienberg.de/event/27-29-06-2025-praesidentenfahrt-nach-luxemburg/
CATEGORIES:Präsidentenfahrt
ATTACH;FMTTYPE=image/png:https://lionsclub-bad-marienberg.de/wp-content/uploads/2024/02/LCBM_25_Logo_cmyk.png
END:VEVENT
BEGIN:VEVENT
DTSTART;TZID=Europe/Berlin:20250617T190000
DTEND;TZID=Europe/Berlin:20250617T230000
DTSTAMP:20260419T171452
CREATED:20240807T113815Z
LAST-MODIFIED:20240807T113815Z
UID:8078-1750186800-1750201200@lionsclub-bad-marienberg.de
SUMMARY:17.06.2024 | Präsidentenübergabe
DESCRIPTION:
URL:https://lionsclub-bad-marienberg.de/event/17-06-2024-praesidentenuebergabe/
LOCATION:Birkenhof-Brennerei\, Auf dem Birkenhof 1\, Nistertal\, 57647\, Deutschland
CATEGORIES:Clubabend – Außentermin
ATTACH;FMTTYPE=image/jpeg:https://lionsclub-bad-marienberg.de/wp-content/uploads/2021/12/Birkenhof_xs©JWillwacher.jpg
END:VEVENT
BEGIN:VEVENT
DTSTART;TZID=Europe/Berlin:20250506T170000
DTEND;TZID=Europe/Berlin:20250506T230000
DTSTAMP:20260419T171452
CREATED:20240807T113631Z
LAST-MODIFIED:20250310T163031Z
UID:8075-1746550800-1746572400@lionsclub-bad-marienberg.de
SUMMARY:06.05.2024 | Ein Abend im Schloss Montabaur
DESCRIPTION:  \n17.15 Uhr Treffen an der Reception  \nSchloss Montabaur  \nParken bitte in der Tiefgarage \n  \n17.30 Uhr Start Schlossführung in zwei Gruppen \n18.45 Uhr Sektempfang \nim Wintergarten | bei schönem Wetter auf der \nTerrasse \n  \nanschließend Gemeinsames Dinner \nMenü wird noch bekannt gegeben \nAdresse zur Anfahrt: Hotel Schloss Montabaur \nSchloss Montabaur\, Schlossweg 1\,  \n56410 Montabaur
URL:https://lionsclub-bad-marienberg.de/event/10-05-2024-nacht-der-loewen-jubilaeumsball/
LOCATION:Schloss Montabaur\, Schlossweg 1\, Montabaur\, Rhineland-Palatinate\, 56410\, Germany
CATEGORIES:Clubabend – Außentermin
ATTACH;FMTTYPE=image/jpeg:https://lionsclub-bad-marienberg.de/wp-content/uploads/2024/08/800x600_Schloss_fern2.jpg
ORGANIZER;CN="Lions Club Bad Marienberg":MAILTO:info@lionsclub-bad-marienberg.de
END:VEVENT
BEGIN:VEVENT
DTSTART;TZID=Europe/Berlin:20250408T190000
DTEND;TZID=Europe/Berlin:20250408T230000
DTSTAMP:20260419T171452
CREATED:20240807T113354Z
LAST-MODIFIED:20240807T114245Z
UID:8072-1744138800-1744153200@lionsclub-bad-marienberg.de
SUMMARY:08.04.2025 | Tanzabend
DESCRIPTION:Ort ist noch in Planung
URL:https://lionsclub-bad-marienberg.de/event/08-04-2025-tanzabend/
CATEGORIES:Clubabend – Außentermin
ATTACH;FMTTYPE=image/png:https://lionsclub-bad-marienberg.de/wp-content/uploads/2024/02/LCBM_25_Logo_cmyk.png
END:VEVENT
BEGIN:VEVENT
DTSTART;TZID=Europe/Berlin:20250408T190000
DTEND;TZID=Europe/Berlin:20250408T193000
DTSTAMP:20260419T171452
CREATED:20250317T102742Z
LAST-MODIFIED:20250317T102825Z
UID:8430-1744138800-1744140600@lionsclub-bad-marienberg.de
SUMMARY:08.04.2025 | Mitgliederversammlung
DESCRIPTION:
URL:https://lionsclub-bad-marienberg.de/event/mitgliederversammlung-2/
LOCATION:Clubhotel\, Kurallee 1\, Bad Marienberg\, Rheinland-Pfalz\, 57627\, Deutschland
ATTACH;FMTTYPE=image/png:https://lionsclub-bad-marienberg.de/wp-content/uploads/2024/02/LCBM_25_Logo_cmyk.png
ORGANIZER;CN="Lions Club Bad Marienberg":MAILTO:info@lionsclub-bad-marienberg.de
END:VEVENT
BEGIN:VEVENT
DTSTART;TZID=Europe/Berlin:20250312T190000
DTEND;TZID=Europe/Berlin:20250312T230000
DTSTAMP:20260419T171452
CREATED:20240807T113152Z
LAST-MODIFIED:20240807T113425Z
UID:8068-1741806000-1741820400@lionsclub-bad-marienberg.de
SUMMARY:12.03.2025 | 25 Jahre Lions Club Bad Marienberg – Retrospektive
DESCRIPTION:
URL:https://lionsclub-bad-marienberg.de/event/12-03-2025-25-jahre-lions-club-bad-marienberg-retrospektive/
LOCATION:Clubhotel\, Kurallee 1\, Bad Marienberg\, Rheinland-Pfalz\, 57627\, Deutschland
ATTACH;FMTTYPE=image/jpeg:https://lionsclub-bad-marienberg.de/wp-content/uploads/2024/06/IMG_2182-scaled.jpeg
ORGANIZER;CN="Lions Club Bad Marienberg":MAILTO:info@lionsclub-bad-marienberg.de
END:VEVENT
BEGIN:VEVENT
DTSTART;TZID=Europe/Berlin:20250213T190000
DTEND;TZID=Europe/Berlin:20250213T220000
DTSTAMP:20260419T171452
CREATED:20240807T112947Z
LAST-MODIFIED:20240807T114223Z
UID:8064-1739473200-1739484000@lionsclub-bad-marienberg.de
SUMMARY:13.02.2025 | Besichtigung Plan Optik | Clubabend Außentermin
DESCRIPTION:
URL:https://lionsclub-bad-marienberg.de/event/13-02-2025-besichtigung-plan-optik/
LOCATION:Plan Optik\, Über der Bitz 3\, Elsoff\, Rheinland-Pfalz\, 56479\, Deutschland
CATEGORIES:Clubabend – Außentermin
ATTACH;FMTTYPE=image/png:https://lionsclub-bad-marienberg.de/wp-content/uploads/2024/02/LCBM_25_Logo_cmyk.png
ORGANIZER;CN="Lions Club Bad Marienberg":MAILTO:info@lionsclub-bad-marienberg.de
END:VEVENT
BEGIN:VEVENT
DTSTART;TZID=Europe/Berlin:20250111T190000
DTEND;TZID=Europe/Berlin:20250111T230000
DTSTAMP:20260419T171452
CREATED:20240807T112752Z
LAST-MODIFIED:20240807T113003Z
UID:8060-1736622000-1736636400@lionsclub-bad-marienberg.de
SUMMARY:11.01.2025 | Neujahrsempfang
DESCRIPTION:
URL:https://lionsclub-bad-marienberg.de/event/11-01-2025-neujahrsempfang/
LOCATION:Habakuk\, Lindenstraße 70\, Hachenburg\, Rheinland-Pfalz\, 57627\, Deutschland
CATEGORIES:Clubabend – Außentermin
ATTACH;FMTTYPE=image/png:https://lionsclub-bad-marienberg.de/wp-content/uploads/2024/02/LCBM_25_Logo_cmyk.png
ORGANIZER;CN="Lions Club Bad Marienberg":MAILTO:info@lionsclub-bad-marienberg.de
END:VEVENT
BEGIN:VEVENT
DTSTART;VALUE=DATE:20241128
DTEND;VALUE=DATE:20241202
DTSTAMP:20260419T171452
CREATED:20240527T100428Z
LAST-MODIFIED:20240527T100428Z
UID:7875-1732752000-1733097599@lionsclub-bad-marienberg.de
SUMMARY:28.11. – 01.12.2024 | Weihnachtsmarkt Bad Marienberg
DESCRIPTION:
URL:https://lionsclub-bad-marienberg.de/event/28-11-01-12-2024-weihnachtsmarkt-bad-marienberg/
ATTACH;FMTTYPE=image/png:https://lionsclub-bad-marienberg.de/wp-content/uploads/2024/02/LCBM_25_Logo_cmyk.png
END:VEVENT
BEGIN:VEVENT
DTSTART;TZID=Europe/Berlin:20241112T190000
DTEND;TZID=Europe/Berlin:20241112T220000
DTSTAMP:20260419T171452
CREATED:20240527T100308Z
LAST-MODIFIED:20240527T100308Z
UID:7872-1731438000-1731448800@lionsclub-bad-marienberg.de
SUMMARY:12.11.2024 | Mitgliederversammlung
DESCRIPTION:
URL:https://lionsclub-bad-marienberg.de/event/12-11-2024-mitgliederversammlung/
CATEGORIES:Clubabend
ATTACH;FMTTYPE=image/png:https://lionsclub-bad-marienberg.de/wp-content/uploads/2024/02/LCBM_25_Logo_cmyk.png
END:VEVENT
BEGIN:VEVENT
DTSTART;TZID=Europe/Berlin:20241022T190000
DTEND;TZID=Europe/Berlin:20241022T220000
DTSTAMP:20260419T171452
CREATED:20240527T100138Z
LAST-MODIFIED:20240617T102744Z
UID:7869-1729623600-1729634400@lionsclub-bad-marienberg.de
SUMMARY:22.10.2024 | Besichtigung Gedenkstätte Hadamar | Clubabend | Außentermin
DESCRIPTION:
URL:https://lionsclub-bad-marienberg.de/event/22-10-2024-clubabend/
LOCATION:Gedenkstätte Hadamar\, Mönchberg 8\, Hadamar\, Rheinland-Pfalz\, 65589\, Deutschland
CATEGORIES:Clubabend – Außentermin
ATTACH;FMTTYPE=image/png:https://lionsclub-bad-marienberg.de/wp-content/uploads/2024/02/LCBM_25_Logo_cmyk.png
END:VEVENT
BEGIN:VEVENT
DTSTART;TZID=Europe/Berlin:20240903T190000
DTEND;TZID=Europe/Berlin:20240903T220000
DTSTAMP:20260419T171452
CREATED:20240527T100100Z
LAST-MODIFIED:20240617T102559Z
UID:7866-1725390000-1725400800@lionsclub-bad-marienberg.de
SUMMARY:03.09.2024 | Diskussionsabend mit Susanne Szczesny-Oßing | Clubabend
DESCRIPTION:
URL:https://lionsclub-bad-marienberg.de/event/03-09-2024-clubabend/
LOCATION:Clubhotel\, Kurallee 1\, Bad Marienberg\, Rheinland-Pfalz\, 57627\, Deutschland
CATEGORIES:Clubabend
ATTACH;FMTTYPE=image/png:https://lionsclub-bad-marienberg.de/wp-content/uploads/2024/02/LCBM_25_Logo_cmyk.png
END:VEVENT
BEGIN:VEVENT
DTSTART;TZID=Europe/Berlin:20240831T170000
DTEND;TZID=Europe/Berlin:20240831T230000
DTSTAMP:20260419T171452
CREATED:20240209T101112Z
LAST-MODIFIED:20240617T104325Z
UID:7623-1725123600-1725145200@lionsclub-bad-marienberg.de
SUMMARY:31.08.2024 | LIONS CLUB Klavierkonzert
DESCRIPTION:in Planung
URL:https://lionsclub-bad-marienberg.de/event/31-08-2024-lions-club-klavierkonzert/
ATTACH;FMTTYPE=image/png:https://lionsclub-bad-marienberg.de/wp-content/uploads/2024/02/LCBM_25_Logo_cmyk.png
END:VEVENT
BEGIN:VEVENT
DTSTART;TZID=Europe/Berlin:20240813T190000
DTEND;TZID=Europe/Berlin:20240813T220000
DTSTAMP:20260419T171452
CREATED:20240527T095948Z
LAST-MODIFIED:20240617T102503Z
UID:7862-1723575600-1723586400@lionsclub-bad-marienberg.de
SUMMARY:13.08.2024 | Besichtigung Tongrube Boden | Clubabend Außentermin
DESCRIPTION:
URL:https://lionsclub-bad-marienberg.de/event/13-08-2024-clubabend/
LOCATION:Görg & Schneider\, Guterborn 1\, Boden\, Rheinland-Pfalz\, 56412\, Deutschland
CATEGORIES:Clubabend – Außentermin
ATTACH;FMTTYPE=image/png:https://lionsclub-bad-marienberg.de/wp-content/uploads/2024/02/LCBM_25_Logo_cmyk.png
END:VEVENT
BEGIN:VEVENT
DTSTART;TZID=Europe/Berlin:20240709T190000
DTEND;TZID=Europe/Berlin:20240709T220000
DTSTAMP:20260419T171452
CREATED:20240527T095841Z
LAST-MODIFIED:20240617T102338Z
UID:7859-1720551600-1720562400@lionsclub-bad-marienberg.de
SUMMARY:09.07.2024 | Aktueller Kapitalmarkt – Vermögensaufbau | Clubabend | Außentermin
DESCRIPTION:
URL:https://lionsclub-bad-marienberg.de/event/09-07-2024-clubabend-aussentermin/
LOCATION:Sparkasse Westerwald-Sieg\, Bismarckstraße 16\, Bad Marienberg\, Rheinland-Pfalz\, 56470\, Deutschland
CATEGORIES:Clubabend – Außentermin
ATTACH;FMTTYPE=image/png:https://lionsclub-bad-marienberg.de/wp-content/uploads/2024/02/LCBM_25_Logo_cmyk.png
END:VEVENT
BEGIN:VEVENT
DTSTART;TZID=Europe/Berlin:20240611T190000
DTEND;TZID=Europe/Berlin:20240611T230000
DTSTAMP:20260419T171452
CREATED:20240304T114618Z
LAST-MODIFIED:20240304T114843Z
UID:7621-1718132400-1718146800@lionsclub-bad-marienberg.de
SUMMARY:11.06.2024 | Präsidentenübergabe
DESCRIPTION:Ort wird noch bekannt gegeben.
URL:https://lionsclub-bad-marienberg.de/event/11-06-2024-praesidentenuebergabe/
END:VEVENT
BEGIN:VEVENT
DTSTART;TZID=Europe/Berlin:20240514T190000
DTEND;TZID=Europe/Berlin:20240514T220000
DTSTAMP:20260419T171452
CREATED:20240209T100823Z
LAST-MODIFIED:20240410T091921Z
UID:7617-1715713200-1715724000@lionsclub-bad-marienberg.de
SUMMARY:14.05.2024 | Seelentiefen – In Würde alt werden
DESCRIPTION:Referenten: Doris Kohlhas und Klaus Peter Weber \n 
URL:https://lionsclub-bad-marienberg.de/event/14-05-2024-seelentiefen-in-wuerde-alt-werden/
LOCATION:Clubhotel\, Kurallee 1\, Bad Marienberg\, Rheinland-Pfalz\, 57627\, Deutschland
CATEGORIES:Clubabend
ATTACH;FMTTYPE=image/jpeg:https://lionsclub-bad-marienberg.de/wp-content/uploads/2023/08/Seelentiefen_Buch-innen.jpg
END:VEVENT
BEGIN:VEVENT
DTSTART;TZID=Europe/Berlin:20240409T190000
DTEND;TZID=Europe/Berlin:20240409T220000
DTSTAMP:20260419T171452
CREATED:20240209T100540Z
LAST-MODIFIED:20240209T100540Z
UID:7614-1712689200-1712700000@lionsclub-bad-marienberg.de
SUMMARY:09.04.2024 | Digitalisierung
DESCRIPTION:Referent: Oliver Gromnitza
URL:https://lionsclub-bad-marienberg.de/event/09-04-2024-digitalisierung/
LOCATION:Clubhotel\, Kurallee 1\, Bad Marienberg\, Rheinland-Pfalz\, 57627\, Deutschland
END:VEVENT
END:VCALENDAR