BEGIN:VCALENDAR
VERSION:2.0
PRODID:-//Lions Club Bad Marienberg - ECPv6.14.2//NONSGML v1.0//EN
CALSCALE:GREGORIAN
METHOD:PUBLISH
X-ORIGINAL-URL:https://lionsclub-bad-marienberg.de
X-WR-CALDESC:Veranstaltungen für Lions Club Bad Marienberg
REFRESH-INTERVAL;VALUE=DURATION:PT1H
X-Robots-Tag:noindex
X-PUBLISHED-TTL:PT1H
BEGIN:VTIMEZONE
TZID:Europe/Berlin
BEGIN:DAYLIGHT
TZOFFSETFROM:+0100
TZOFFSETTO:+0200
TZNAME:CEST
DTSTART:20260329T010000
END:DAYLIGHT
BEGIN:STANDARD
TZOFFSETFROM:+0200
TZOFFSETTO:+0100
TZNAME:CET
DTSTART:20261025T010000
END:STANDARD
END:VTIMEZONE
BEGIN:VEVENT
DTSTART;TZID=Europe/Berlin:20260310T190000
DTEND;TZID=Europe/Berlin:20260310T220000
DTSTAMP:20260419T154722
CREATED:20251016T091849Z
LAST-MODIFIED:20251016T091959Z
UID:8760-1773169200-1773180000@lionsclub-bad-marienberg.de
SUMMARY:10.03.2026 | Mitgliederversammlung
DESCRIPTION:
URL:https://lionsclub-bad-marienberg.de/event/10-03-2026-mitgliederversammlung/
LOCATION:Clubhotel\, Kurallee 1\, Bad Marienberg\, Rheinland-Pfalz\, 57627\, Deutschland
CATEGORIES:Clubabend
ATTACH;FMTTYPE=image/png:https://lionsclub-bad-marienberg.de/wp-content/uploads/2024/02/LCBM_25_Logo_cmyk.png
END:VEVENT
END:VCALENDAR